BEGIN:VCALENDAR
VERSION:2.0
PRODID:spatie/icalendar-generator
DESCRIPTION:Events from Archbishop Neale School
X-WR-CALDESC:Events from Archbishop Neale School
REFRESH-INTERVAL;VALUE=DURATION:PT1440M
X-PUBLISHED-TTL:PT1440M
BEGIN:VTIMEZONE
TZID:Etc/GMT+0
BEGIN:STANDARD
DTSTART:20220823T000000Z
TZOFFSETFROM:+0000
TZOFFSETTO:+0000
END:STANDARD
END:VTIMEZONE
BEGIN:VTIMEZONE
TZID:UTC
BEGIN:STANDARD
DTSTART:20250724T084050Z
TZOFFSETFROM:+0000
TZOFFSETTO:+0000
END:STANDARD
END:VTIMEZONE
BEGIN:VEVENT
UID:14-14
DTSTAMP:20260420T084050Z
SUMMARY:Spring Festival
LOCATION:
ORGANIZER;CN=Archbishop Neale School:MAILTO:office@archbishopnealeschool.or
 g
DTSTART;TZID=Etc/GMT+0;VALUE=DATE:20230520
DTEND;TZID=Etc/GMT+0;VALUE=DATE:20230521
X-ALT-DESC;FMTTYPE=TEXT/HTML:
CATEGORIES:General
URL;VALUE=URI:https://archbishopnealeschool.org/mc-events/spring-festival/
METHOD:PUBLISH
END:VEVENT
END:VCALENDAR